BEGIN:VCALENDAR
VERSION:2.0
PRODID:-//Marquette County Tourism &amp; Visitors Bureau - ECPv6.15.20//NONSGML v1.0//EN
CALSCALE:GREGORIAN
METHOD:PUBLISH
X-ORIGINAL-URL:http://www.travelmarquettecounty.com
X-WR-CALDESC:Events for Marquette County Tourism &amp; Visitors Bureau
REFRESH-INTERVAL;VALUE=DURATION:PT1H
X-Robots-Tag:noindex
X-PUBLISHED-TTL:PT1H
BEGIN:VTIMEZONE
TZID:UTC
BEGIN:STANDARD
TZOFFSETFROM:+0000
TZOFFSETTO:+0000
TZNAME:UTC
DTSTART:20240101T000000
END:STANDARD
END:VTIMEZONE
BEGIN:VEVENT
DTSTART;VALUE=DATE:20250703
DTEND;VALUE=DATE:20250706
DTSTAMP:20260420T133143
CREATED:20150430T121421Z
LAST-MODIFIED:20250601T193452Z
UID:706-1751500800-1751759999@www.travelmarquettecounty.com
SUMMARY:Oxford Independence Day Celebration
DESCRIPTION:Softball tournament July 3 – 5th. \nVolleyball tournament and bags tournament- Times TBD \nJunior Olympics Sat July 5 at 10:30 Am. \nBike parade- meet downtown Oxford at 9AM. Sat. July 5 \nLive bands- \nBest Practice- Friday July 4th form 7PM to 10:30. \nJenna Jane- Saturday July 5th from 5:30 to 9:30. \nFood\, refreshments\, 2 large cash raffles and 50/50 raffles. \nFireworks Saturday July 5th at 10pm. \n\n\n\nWatch the Oxford Fire Department Facebook page for changes or updates to the schedule\n\n\n\n\n\n\n\n\nClick here for more information on Oxford Fire Department Facebook page
URL:http://www.travelmarquettecounty.com/event/oxford-4th-of-july-celebration/
END:VEVENT
BEGIN:VEVENT
DTSTART;VALUE=DATE:20250704
DTEND;VALUE=DATE:20250705
DTSTAMP:20260420T133143
CREATED:20190516T133121Z
LAST-MODIFIED:20250601T195907Z
UID:1817-1751587200-1751673599@www.travelmarquettecounty.com
SUMMARY:Neshkoro Fireman's Picnic and Fireworks
DESCRIPTION:Friday July 4th\, 2025Event starts at 4pm with food & beveragesR u Kiddin Me Entertainment playing your favorite classic rock from 4-6 pmCherry Pie will be rocking Neshkoro  Starting @ 7:30 pm.Break time for fireworks at dusk & band will resume afterwards. \n  \nCheck the Neshkoro Fire Dept. Facebook page for more info
URL:http://www.travelmarquettecounty.com/event/neshkoro-independence-day-celebration/
END:VEVENT
BEGIN:VEVENT
DTSTART;VALUE=DATE:20250704
DTEND;VALUE=DATE:20250705
DTSTAMP:20260420T133143
CREATED:20151213T035248Z
LAST-MODIFIED:20250203T191217Z
UID:901-1751587200-1751673599@www.travelmarquettecounty.com
SUMMARY:Harrisville 4th of July Celebration
DESCRIPTION:Friday\, July 4th \nFireman’s Park/Sportsman’s Club -Cty. Rd. J – Harrisville \nParade at 11am (Line-up by 10:30am at the mill pond if you want to be in the parade) \nTractor Pulls start at 11am\nRegistration is from 9-10:30 (if you are pulling get there early so you can register on time and not get held up by the parade) No late entries!\nTractor pull free for spectators \nSee the tractor pullers Facebook page for ore information \nFireworks at dusk over the mill pond \n 
URL:http://www.travelmarquettecounty.com/event/harrisville-4th-of-july-celebration/
END:VEVENT
END:VCALENDAR